BEGIN:VCALENDAR
VERSION:2.0
PRODID:-//eventon.com NONSGML v1.0//EN
CALSCALE:GREGORIAN
METHOD:PUBLISH
BEGIN:VEVENT
UID:69eb15e134883
DTSTAMP:20260424T070401Z
DTSTART:20260414
DTEND:20260415
LOCATION:
SUMMARY:Intermodal 2026
DESCRIPTION:Intermodal 2026\nhttps://apla.lat/web/events/intermodal2026/
URL:https://apla.lat/web/events/intermodal2026/
END:VEVENT
END:VCALENDAR