BEGIN:VCALENDAR
VERSION:2.0
PRODID:-//eventon.com NONSGML v1.0//EN
CALSCALE:GREGORIAN
METHOD:PUBLISH
BEGIN:VEVENT
UID:69eb46db8adbe
DTSTAMP:20260424T103259Z
DTSTART:20260930
DTEND:20261001
LOCATION:
SUMMARY:CONEXPLO 2026
DESCRIPTION:CONEXPLO 2026\nhttps://apla.lat/web/events/conexplo-2026/
URL:https://apla.lat/web/events/conexplo-2026/
END:VEVENT
END:VCALENDAR