BEGIN:VCALENDAR
VERSION:2.0
PRODID:-//eventon.com NONSGML v1.0//EN
CALSCALE:GREGORIAN
METHOD:PUBLISH
BEGIN:VEVENT
UID:69eb2fb1052fc
DTSTAMP:20260424T085409Z
DTSTART:20260908
DTEND:20260909
LOCATION:
SUMMARY:LARTC
DESCRIPTION:LARTC\nhttps://apla.lat/web/events/lartc-2/
URL:https://apla.lat/web/events/lartc-2/
END:VEVENT
END:VCALENDAR