BEGIN:VCALENDAR
VERSION:2.0
PRODID:-//eventon.com NONSGML v1.0//EN
CALSCALE:GREGORIAN
METHOD:PUBLISH
BEGIN:VEVENT
UID:69eb15df59409
DTSTAMP:20260424T070359Z
DTSTART:20260528
DTEND:20260529
LOCATION:
SUMMARY:APIC
DESCRIPTION:APIC\nhttps://apla.lat/web/events/apic/
URL:https://apla.lat/web/events/apic/
END:VEVENT
END:VCALENDAR