BEGIN:VCALENDAR
VERSION:2.0
PRODID:-//eventon.com NONSGML v1.0//EN
CALSCALE:GREGORIAN
METHOD:PUBLISH
BEGIN:VEVENT
UID:69eb15e1d3b72
DTSTAMP:20260424T070401Z
DTSTART:20260601
DTEND:20260602
LOCATION:
SUMMARY:ARPEL
DESCRIPTION:ARPEL\nhttps://apla.lat/web/events/arpel/
URL:https://apla.lat/web/events/arpel/
END:VEVENT
END:VCALENDAR