BEGIN:VCALENDAR
VERSION:2.0
PRODID:-//eventon.com NONSGML v1.0//EN
CALSCALE:GREGORIAN
METHOD:PUBLISH
BEGIN:VEVENT
UID:69eb2fb1107aa
DTSTAMP:20260424T085409Z
DTSTART:20261005
DTEND:20261006
LOCATION:
SUMMARY:EPCA
DESCRIPTION:EPCA\nhttps://apla.lat/web/events/epca/
URL:https://apla.lat/web/events/epca/
END:VEVENT
END:VCALENDAR