BEGIN:VCALENDAR
VERSION:2.0
PRODID:-//eventon.com NONSGML v1.0//EN
CALSCALE:GREGORIAN
METHOD:PUBLISH
BEGIN:VEVENT
UID:69eb2f7489e2f
DTSTAMP:20260424T085308Z
DTSTART:20261019
DTEND:20261020
LOCATION:
SUMMARY:AOG
DESCRIPTION:AOG\nhttps://apla.lat/web/events/aog/
URL:https://apla.lat/web/events/aog/
END:VEVENT
END:VCALENDAR