BEGIN:VCALENDAR
VERSION:2.0
PRODID:-//eventon.com NONSGML v1.0//EN
CALSCALE:GREGORIAN
METHOD:PUBLISH
BEGIN:VEVENT
UID:69eb15e2e4cad
DTSTAMP:20260424T070402Z
DTSTART:20260722
DTEND:20260723
LOCATION:
SUMMARY:Foro y Expo LARPET
DESCRIPTION:Foro y Expo LARPET\nhttps://apla.lat/web/events/arpet/
URL:https://apla.lat/web/events/arpet/
END:VEVENT
END:VCALENDAR