BEGIN:VCALENDAR
VERSION:2.0
PRODID:-//eventon.com NONSGML v1.0//EN
CALSCALE:GREGORIAN
METHOD:PUBLISH
BEGIN:VEVENT
UID:69eb15df68c89
DTSTAMP:20260424T070359Z
DTSTART:20260414
DTEND:20260415
LOCATION:
SUMMARY:28° Logística APLA
DESCRIPTION:28° Logística APLA\nhttps://apla.lat/web/events/logistica/
URL:https://apla.lat/web/events/logistica/
END:VEVENT
END:VCALENDAR