BEGIN:VCALENDAR
VERSION:2.0
PRODID:-//eventon.com NONSGML v1.0//EN
CALSCALE:GREGORIAN
METHOD:PUBLISH
BEGIN:VEVENT
UID:69eb35c17090e
DTSTAMP:20260424T092001Z
DTSTART:20261026
DTEND:20261027
LOCATION:
SUMMARY:46° Reunión Anual APLA
DESCRIPTION:46° Reunión Anual APLA\nhttps://apla.lat/web/events/anual/
URL:https://apla.lat/web/events/anual/
END:VEVENT
END:VCALENDAR