BEGIN:VCALENDAR
VERSION:2.0
PRODID:-//eventon.com NONSGML v1.0//EN
CALSCALE:GREGORIAN
METHOD:PUBLISH
BEGIN:VEVENT
UID:69eb328fe823b
DTSTAMP:20260424T090623Z
DTSTART:20261103
DTEND:20261104
LOCATION:
SUMMARY:ARGENPLAS
DESCRIPTION:ARGENPLAS\nhttps://apla.lat/web/events/argenplas/
URL:https://apla.lat/web/events/argenplas/
END:VEVENT
END:VCALENDAR