BEGIN:VCALENDAR
VERSION:2.0
PRODID:-//eventon.com NONSGML v1.0//EN
CALSCALE:GREGORIAN
METHOD:PUBLISH
BEGIN:VEVENT
UID:69eb2f747a352
DTSTAMP:20260424T085308Z
DTSTART:20261103
DTEND:20261104
LOCATION:
SUMMARY:OTC2026
DESCRIPTION:OTC2026\nhttps://apla.lat/web/events/otc2026/
URL:https://apla.lat/web/events/otc2026/
END:VEVENT
END:VCALENDAR